Workbook

Sheet Atendimentos Eletrotécnica
A1: OS | B1: Técnico | C1: Local | D1: Início | E1: Fim | F1: Tipo de Serviço | G1: Equipamento | H1: Defeito | I1: Solução | J1: Peças/Materiais | K1: Status
A2: OS-2001 | B2: MOISES | C2: Subestação Norte | D2: 06/05/2026 20:00 | E2: 06/05/2026 22:00 | F2: Instalação | G2: Gerador | H2: Falha de isolamento | I2: Reparo em painel | J2: Nenhuma | K2: Pendente
A3: OS-2002 | B3: EVERTON | C3: Hospital Municipal | D3: 05/05/2026 06:00 | E3: 05/05/2026 12:00 | F3: Comissionamento | G3: Soft Starter | H3: Disjuntor desarmando | I3: Limpeza técnica | J3: Cabo 16mm² | K3: Concluído
A4: OS-2003 | B4: MARCOS VINICIUS | C4: Subestação Sul | D4: 10/05/2026 18:00 | E4: 10/05/2026 21:00 | F4: Comissionamento | G4: QGBT | H4: Curto-circuito | I4: Reconfiguração | J4: Bornes | K4: Pendente
A5: OS-2004 | B5: LEONARDO | C5: EEB-02 | D5: 28/05/2026 12:00 | E5: 28/05/2026 14:00 | F5: Preventiva | G5: Gerador | H5: Falha de isolamento | I5: Substituição de relé | J5: Lâmpada LED | K5: Concluído
A6: OS-2005 | B6: RONALDY | C6: Almoxarifado Central | D6: 04/05/2026 06:00 | E6: 04/05/2026 09:00 | F6: Comissionamento | G6: Gerador | H6: Conexão frouxa | I6: Substituição de fusíveis | J6: Fusível NH | K6: Concluído
A7: OS-2006 | B7: MAILSON | C7: EEB-02 | D7: 15/05/2026 22:00 | E7: 16/05/2026 01:00 | F7: Preventiva | G7: Transformador | H7: Contato oxidado | I7: Substituição de relé | J7: Disjuntor 63A | K7: Concluído
A8: OS-2007 | B8: GENEBALDO | C8: Almoxarifado Central | D8: 29/05/2026 05:00 | E8: 29/05/2026 07:00 | F8: Preventiva | G8: Nobreak | H8: Contato oxidado | I8: Substituição de relé | J8: Fusível NH | K8: Concluído
A9: OS-2008 | B9: PHILIP | C9: Subestação Norte | D9: 23/05/2026 07:00 | E9: 23/05/2026 08:00 | F9: Inspeção | G9: Banco de Capacitores | H9: Curto-circuito | I9: Teste e comissionamento | J9: Nenhuma | K9: Pendente
A10: OS-2009 | B10: ANDRE | C10: Escola Técnica | D10: 04/05/2026 00:00 | E10: 04/05/2026 03:00 | F10: Inspeção | G10: Soft Starter | H10: Falha de isolamento | I10: Troca de componente | J10: Fusível NH | K10: Pendente
A11: OS-2010 | B11: DIEGO | C11: Subestação Norte | D11: 05/05/2026 19:00 | E11: 06/05/2026 00:00 | F11: Inspeção | G11: Inversor de Frequência | H11: Sobreaquecimento | I11: Limpeza técnica | J11: Bornes | K11: Pendente
A12: OS-2011 | B12: RICARDO | C12: Subestação Norte | D12: 15/05/2026 15:00 | E12: 15/05/2026 20:00 | F12: Comissionamento | G12: QGBT | H12: Contato oxidado | I12: Balanceamento de fases | J12: Bornes | K12: Pendente
... A181: OS-2180 | B181: RONALDY | C181: Hospital Municipal | D181: 14/05/2026 03:00 | E181: 14/05/2026 11:00 | F181: Preventiva | G181: Motor Trifásico | H181: Contato oxidado | I181: Troca de componente | J181: Lâmpada LED | K181: Concluído

Sheet Dashboard
A1: Dashboard - Manutenção Eletrotécnica
A3: Técnico | B3: Atendimentos
A4: ANDRE | B4: =COUNTIF('Atendimentos Eletrotécnica'!B:B,A4)
A5: DAVID | B5: =COUNTIF('Atendimentos Eletrotécnica'!B:B,A5)
A6: DENIS | B6: =COUNTIF('Atendimentos Eletrotécnica'!B:B,A6)
A7: DIEGO | B7: =COUNTIF('Atendimentos Eletrotécnica'!B:B,A7)
A8: EDVALDO | B8: =COUNTIF('Atendimentos Eletrotécnica'!B:B,A8)
A9: EVERTON | B9: =COUNTIF('Atendimentos Eletrotécnica'!B:B,A9)
A10: FLAVIA | B10: =COUNTIF('Atendimentos Eletrotécnica'!B:B,A10)
A11: GENEBALDO | B11: =COUNTIF('Atendimentos Eletrotécnica'!B:B,A11)
A12: GEORGE | B12: =COUNTIF('Atendimentos Eletrotécnica'!B:B,A12)
A13: IVAN | B13: =COUNTIF('Atendimentos Eletrotécnica'!B:B,A13)
A14: JEFERSON | B14: =COUNTIF('Atendimentos Eletrotécnica'!B:B,A14)
A15: LEONARDO | B15: =COUNTIF('Atendimentos Eletrotécnica'!B:B,A15)
... A28: WESLEY | B28: =COUNTIF('Atendimentos Eletrotécnica'!B:B,A28)
A35: Tipo | B35: Qtd
A36: Preventiva | B36: =COUNTIF('Atendimentos Eletrotécnica'!F:F,A36)
A37: Corretiva | B37: =COUNTIF('Atendimentos Eletrotécnica'!F:F,A37)
A38: Inspeção | B38: =COUNTIF('Atendimentos Eletrotécnica'!F:F,A38)
A39: Instalação | B39: =COUNTIF('Atendimentos Eletrotécnica'!F:F,A39)
A40: Comissionamento | B40: =COUNTIF('Atendimentos Eletrotécnica'!F:F,A40)
